BEGIN:VCALENDAR
PRODID:-//http://statistik.d-u-v.org//PHP ultracalendar//EN
VERSION:2.0
METHOD:PUBLISH
BEGIN:VEVENT
DTSTAMP:20260419T173708
CREATED:20251226T080128
UID:1776620228.0.25124000-126527@statistik.d-u-v.org
SUMMARY:Salt Springs Field Forest & Falls
DESCRIPTION: Salt Springs Field Forest & Falls\n
  \n
  saltspringstrailraces@gmail.com
DTSTART:20260829T070000
DTEND:00000000T235900
LOCATION:Franklin Forks, PA\, USA
URL:https://runsignup.com/Race/PA/Montrose/SaltSpringsTrailRace
CATEGORIES:Ultramarathon
CONTACT:
CLASS:PUBLIC
PRIORITY:5
TRANSP:OPAQUE
END:VEVENT
END:VCALENDAR
