BEGIN:VCALENDAR
PRODID:-//http://statistik.d-u-v.org//PHP ultracalendar//EN
VERSION:2.0
METHOD:PUBLISH
BEGIN:VEVENT
DTSTAMP:20260419T135945
CREATED:20251224T223452
UID:1776607185.0.53958300-126476@statistik.d-u-v.org
SUMMARY:Twisted Branch Trail Run
DESCRIPTION: Twisted Branch Trail Run\n
  \n
  scottamagee[at]gmail.com
DTSTART:20260822T040000
DTEND:00000000T235900
LOCATION:Naples, NY\, USA
URL:https://ultrasignup.com/register.aspx?did=129708
CATEGORIES:Ultramarathon
CONTACT:
CLASS:PUBLIC
PRIORITY:5
TRANSP:OPAQUE
END:VEVENT
END:VCALENDAR
