BEGIN:VCALENDAR
PRODID:-//http://statistik.d-u-v.org//PHP ultracalendar//EN
VERSION:2.0
METHOD:PUBLISH
BEGIN:VEVENT
DTSTAMP:20260419T135851
CREATED:20251224T222939
UID:1776607131.0.87763600-126471@statistik.d-u-v.org
SUMMARY:Eddy Trail Races
DESCRIPTION: Eddy Trail Races\n
  \n
  mike[at]running-tangents.com
DTSTART:20260808T070000
DTEND:00000000T235900
LOCATION:Annandale, MN\, USA
URL:https://runsignup.com/Race/MN/Annandale/EddyTrailRaces
CATEGORIES:Ultramarathon
CONTACT:
CLASS:PUBLIC
PRIORITY:5
TRANSP:OPAQUE
END:VEVENT
END:VCALENDAR
