BEGIN:VCALENDAR
PRODID:-//http://statistik.d-u-v.org//PHP ultracalendar//EN
VERSION:2.0
METHOD:PUBLISH
BEGIN:VEVENT
DTSTAMP:20260419T173702
CREATED:20251224T222340
UID:1776620222.0.36972400-126466@statistik.d-u-v.org
SUMMARY:Kansas City Backyard Ultra Race
DESCRIPTION: Kansas City Backyard Ultra Race\n
  \n
  midwestenduranceraceco[at]gmail.com
DTSTART:20260808T060000
DTEND:00000000T235900
LOCATION:Kansas City, MO\, USA
URL:https://ultrasignup.com/register.aspx?did=130752
CATEGORIES:Ultramarathon
CONTACT:
CLASS:PUBLIC
PRIORITY:5
TRANSP:OPAQUE
END:VEVENT
END:VCALENDAR
