BEGIN:VCALENDAR
PRODID:-//http://statistik.d-u-v.org//PHP ultracalendar//EN
VERSION:2.0
METHOD:PUBLISH
BEGIN:VEVENT
DTSTAMP:20260419T163057
CREATED:20251224T221723
UID:1776616257.0.42463600-126458@statistik.d-u-v.org
SUMMARY:Riley Park Trail Races
DESCRIPTION: Riley Park Trail Races\n
  \n
  www.rileytrailraces.com
DTSTART:20260801T070000
DTEND:00000000T235900
LOCATION:Coto de Caza, CA\, USA
URL:https://ultrasignup.com/register.aspx?did=131628
CATEGORIES:Ultramarathon
CONTACT:
CLASS:PUBLIC
PRIORITY:5
TRANSP:OPAQUE
END:VEVENT
END:VCALENDAR
