BEGIN:VCALENDAR
PRODID:-//http://statistik.d-u-v.org//PHP ultracalendar//EN
VERSION:2.0
METHOD:PUBLISH
BEGIN:VEVENT
DTSTAMP:20260419T140032
CREATED:20251224T220437
UID:1776607232.0.33694300-126446@statistik.d-u-v.org
SUMMARY:The San Francisco Ultramarathon
DESCRIPTION: The San Francisco Ultramarathon\n
  \n
  customersupport[at]thesfmarathon.com
DTSTART:20260725T220000
DTEND:20260726T235900
LOCATION:San Francisco, CA\, USA
URL:https://www.thesfmarathon.com/ultramarathon/
CATEGORIES:Ultramarathon
CONTACT:
CLASS:PUBLIC
PRIORITY:5
TRANSP:OPAQUE
END:VEVENT
END:VCALENDAR
