BEGIN:VCALENDAR
PRODID:-//http://statistik.d-u-v.org//PHP ultracalendar//EN
VERSION:2.0
METHOD:PUBLISH
BEGIN:VEVENT
DTSTAMP:20260419T173656
CREATED:20251224T190250
UID:1776620216.0.54629300-126389@statistik.d-u-v.org
SUMMARY:White Pine Solstice Runs
DESCRIPTION: White Pine Solstice Runs\n
  \n
  jimmyandkimthomas[at]gmail.com
DTSTART:20260620T060000
DTEND:00000000T235900
LOCATION:Tooele, UT\, USA
URL:https://ultrasignup.com/register.aspx?did=132436
CATEGORIES:Ultramarathon
CONTACT:
CLASS:PUBLIC
PRIORITY:5
TRANSP:OPAQUE
END:VEVENT
END:VCALENDAR
