BEGIN:VCALENDAR
PRODID:-//http://statistik.d-u-v.org//PHP ultracalendar//EN
VERSION:2.0
METHOD:PUBLISH
BEGIN:VEVENT
DTSTAMP:20260419T161514
CREATED:20251224T185513
UID:1776615314.0.21217800-126380@statistik.d-u-v.org
SUMMARY:Strawberry Field Forever 100 Mile Trail Race
DESCRIPTION: Strawberry Field Forever 100 Mile Trail Race\n
  \n
  cgrc[at]live.com
DTSTART:20260620T090000
DTEND:20260621T235900
LOCATION:North Bonneville, WA\, USA
URL:https://ultrasignup.com/register.aspx?did=132001
CATEGORIES:Ultramarathon
CONTACT:
CLASS:PUBLIC
PRIORITY:5
TRANSP:OPAQUE
END:VEVENT
END:VCALENDAR
