BEGIN:VCALENDAR
PRODID:-//http://statistik.d-u-v.org//PHP ultracalendar//EN
VERSION:2.0
METHOD:PUBLISH
BEGIN:VEVENT
DTSTAMP:20260419T140014
CREATED:20251224T184118
UID:1776607214.0.58296900-126370@statistik.d-u-v.org
SUMMARY:Burney Mountain 100
DESCRIPTION: Burney Mountain 100\n
  \n
  intermountain.endurance@gmail.com
DTSTART:20260619T043000
DTEND:00000000T235900
LOCATION:Cassel, CA\, USA
URL:https://ultrasignup.com/register.aspx?did=128016
CATEGORIES:Ultramarathon
CONTACT:
CLASS:PUBLIC
PRIORITY:5
TRANSP:OPAQUE
END:VEVENT
END:VCALENDAR
