BEGIN:VCALENDAR
PRODID:-//http://statistik.d-u-v.org//PHP ultracalendar//EN
VERSION:2.0
METHOD:PUBLISH
BEGIN:VEVENT
DTSTAMP:20260419T220811
CREATED:20251224T160426
UID:1776636491.0.43422900-126328@statistik.d-u-v.org
SUMMARY:Dam Yeti 55 km Race
DESCRIPTION: Dam Yeti 55 km Race\n
  \n
  yetitrailrunners[at]gmail.com
DTSTART:20260606T000000
DTEND:00000000T235900
LOCATION:Damascus, VA\, USA
URL:https://ultrasignup.com/register.aspx?did=127637
CATEGORIES:Ultramarathon
CONTACT:
CLASS:PUBLIC
PRIORITY:5
TRANSP:OPAQUE
END:VEVENT
END:VCALENDAR
