BEGIN:VCALENDAR
PRODID:-//http://statistik.d-u-v.org//PHP ultracalendar//EN
VERSION:2.0
METHOD:PUBLISH
BEGIN:VEVENT
DTSTAMP:20260419T140811
CREATED:20251224T125959
UID:1776607691.0.48227800-126296@statistik.d-u-v.org
SUMMARY:Chesterfield Gorge 50 Mile Ultra Race
DESCRIPTION: Chesterfield Gorge 50 Mile Ultra Race\n
  \n
  
DTSTART:20260530T080000
DTEND:00000000T235900
LOCATION:West Chesterfield, MA\, USA
URL:https://www.runreg.com/chesterfield-gorge-ultra
CATEGORIES:Ultramarathon
CONTACT:
CLASS:PUBLIC
PRIORITY:5
TRANSP:OPAQUE
END:VEVENT
END:VCALENDAR
