BEGIN:VCALENDAR
PRODID:-//http://statistik.d-u-v.org//PHP ultracalendar//EN
VERSION:2.0
METHOD:PUBLISH
BEGIN:VEVENT
DTSTAMP:20260419T121641
CREATED:20251224T125342
UID:1776601001.0.08983100-126292@statistik.d-u-v.org
SUMMARY:Worlds End Ultramarathon 50K
DESCRIPTION: Worlds End Ultramarathon 50K\n
  Race Director David Walker\n
  dlw5065[at]gmail.com
DTSTART:20260530T000000
DTEND:00000000T235900
LOCATION:Forksville, PA\, USA
URL:https://runsignup.com/Race/PA/Forksville/worldsendultra
CATEGORIES:Ultramarathon
CONTACT:Race Director David Walker
CLASS:PUBLIC
PRIORITY:5
TRANSP:OPAQUE
END:VEVENT
END:VCALENDAR
