BEGIN:VCALENDAR
PRODID:-//http://statistik.d-u-v.org//PHP ultracalendar//EN
VERSION:2.0
METHOD:PUBLISH
BEGIN:VEVENT
DTSTAMP:20260419T121635
CREATED:20251224T123344
UID:1776600995.0.92707100-126272@statistik.d-u-v.org
SUMMARY:Loop the Lemur at the Ross Park Zoo
DESCRIPTION: Loop the Lemur at the Ross Park Zoo\n
  \n
  orders[at]confluencerunning.com
DTSTART:20260517T070000
DTEND:00000000T235900
LOCATION:Binghamton, NY\, USA
URL:https://runsignup.com/Race/NY/Binghamton/LoopTheLemur
CATEGORIES:Ultramarathon
CONTACT:
CLASS:PUBLIC
PRIORITY:5
TRANSP:OPAQUE
END:VEVENT
END:VCALENDAR
