BEGIN:VCALENDAR
PRODID:-//http://statistik.d-u-v.org//PHP ultracalendar//EN
VERSION:2.0
METHOD:PUBLISH
BEGIN:VEVENT
DTSTAMP:20260419T140032
CREATED:20251224T115342
UID:1776607232.0.97482800-126245@statistik.d-u-v.org
SUMMARY:Tiger Claw
DESCRIPTION: Tiger Claw\n
  \n
  info[at]runtigerclaw.com
DTSTART:20260509T070000
DTEND:00000000T235900
LOCATION:Issaquah, WA\, USA
URL:https://ultrasignup.com/register.aspx?did=130374
CATEGORIES:Ultramarathon
CONTACT:
CLASS:PUBLIC
PRIORITY:5
TRANSP:OPAQUE
END:VEVENT
END:VCALENDAR
