BEGIN:VCALENDAR
PRODID:-//http://statistik.d-u-v.org//PHP ultracalendar//EN
VERSION:2.0
METHOD:PUBLISH
BEGIN:VEVENT
DTSTAMP:20260419T180829
CREATED:20251224T111546
UID:1776622109.0.40174100-126220@statistik.d-u-v.org
SUMMARY:Sun Mountain 50 Mile Trail Races
DESCRIPTION: Sun Mountain 50 Mile Trail Races\n
  \n
  info[at]rainshadowrunning.com
DTSTART:20260509T051500
DTEND:00000000T235900
LOCATION:Winthrop, WA\, USA
URL:https://www.rainshadowrunning.com/sunmountain.html
CATEGORIES:Ultramarathon
CONTACT:
CLASS:PUBLIC
PRIORITY:5
TRANSP:OPAQUE
END:VEVENT
END:VCALENDAR
