BEGIN:VCALENDAR
PRODID:-//http://statistik.d-u-v.org//PHP ultracalendar//EN
VERSION:2.0
METHOD:PUBLISH
BEGIN:VEVENT
DTSTAMP:20260419T121637
CREATED:20251224T101228
UID:1776600997.0.08541500-126198@statistik.d-u-v.org
SUMMARY:Forgotten Forest 9 Hour Ultra Marathon
DESCRIPTION: Forgotten Forest 9 Hour Ultra Marathon\n
  Lou Loban\n
  laloban[at]yahoo.com
DTSTART:20260516T083000
DTEND:00000000T235900
LOCATION:Stratford, CT\, USA
URL:https://ultrasignup.com/register.aspx?did=130214
CATEGORIES:Ultramarathon
CONTACT:Lou Loban
CLASS:PUBLIC
PRIORITY:5
TRANSP:OPAQUE
END:VEVENT
END:VCALENDAR
