BEGIN:VCALENDAR
PRODID:-//http://statistik.d-u-v.org//PHP ultracalendar//EN
VERSION:2.0
METHOD:PUBLISH
BEGIN:VEVENT
DTSTAMP:20260419T121559
CREATED:20251224T100432
UID:1776600959.0.06893000-126191@statistik.d-u-v.org
SUMMARY:O24 - Outrun 24h Trail Run
DESCRIPTION: O24 - Outrun 24h Trail Run\n
  \n
  
DTSTART:20260502T080000
DTEND:20260503T080000
LOCATION:Kirtland, OH\, USA
URL:https://ultrasignup.com/register.aspx?did=132716
CATEGORIES:Ultramarathon
CONTACT:
CLASS:PUBLIC
PRIORITY:5
TRANSP:OPAQUE
END:VEVENT
END:VCALENDAR
