BEGIN:VCALENDAR
PRODID:-//http://statistik.d-u-v.org//PHP ultracalendar//EN
VERSION:2.0
METHOD:PUBLISH
BEGIN:VEVENT
DTSTAMP:20260424T155346
CREATED:20251224T095530
UID:1777046026.0.87461500-126185@statistik.d-u-v.org
SUMMARY:RUN4Kids 100 Mile Race
DESCRIPTION: RUN4Kids 100 Mile Race\n
  \n
  
DTSTART:20260417T190000
DTEND:20260419T235900
LOCATION:Corona, CA\, USA
URL:https://runsignup.com/Run4KidsUltra
CATEGORIES:Ultramarathon
CONTACT:
CLASS:PUBLIC
PRIORITY:5
TRANSP:OPAQUE
END:VEVENT
END:VCALENDAR
