BEGIN:VCALENDAR
PRODID:-//http://statistik.d-u-v.org//PHP ultracalendar//EN
VERSION:2.0
METHOD:PUBLISH
BEGIN:VEVENT
DTSTAMP:20260419T173544
CREATED:20251224T092518
UID:1776620144.0.16761700-126151@statistik.d-u-v.org
SUMMARY:FANS 24 Hour Runs
DESCRIPTION: FANS 24 Hour Runs\n
  Keith Hardy\n
  fans24hour[at]hotmail.com
DTSTART:20260606T080000
DTEND:20260607T080000
LOCATION:Minneapolis, MN\, USA
URL:https://fansultraraces.org/
CATEGORIES:Ultramarathon
CONTACT:Keith Hardy
CLASS:PUBLIC
PRIORITY:5
TRANSP:OPAQUE
END:VEVENT
END:VCALENDAR
