BEGIN:VCALENDAR
PRODID:-//http://statistik.d-u-v.org//PHP ultracalendar//EN
VERSION:2.0
METHOD:PUBLISH
BEGIN:VEVENT
DTSTAMP:20260419T213426
CREATED:20251224T083710
UID:1776634466.0.82757500-126113@statistik.d-u-v.org
SUMMARY:Cannonball Run - Last Man Standing
DESCRIPTION: Cannonball Run - Last Man Standing\n
  \n
  kayla[at]palmettoultras.com
DTSTART:20260410T200000
DTEND:20260412T110000
LOCATION:Ehrhardt, SC\, USA
URL:https://ultrasignup.com/register.aspx?did=126386
CATEGORIES:Ultramarathon
CONTACT:
CLASS:PUBLIC
PRIORITY:5
TRANSP:OPAQUE
END:VEVENT
END:VCALENDAR
