BEGIN:VCALENDAR
PRODID:-//http://statistik.d-u-v.org//PHP ultracalendar//EN
VERSION:2.0
METHOD:PUBLISH
BEGIN:VEVENT
DTSTAMP:20260419T195303
CREATED:20251224T003339
UID:1776628383.0.67968600-126039@statistik.d-u-v.org
SUMMARY:Big Al’s 200
DESCRIPTION: Big Al’s 200\n
  \n
  bmfjevents[at]gmail.com
DTSTART:20260331T100000
DTEND:20260405T100000
LOCATION:Franklin, TN\, USA
URL:https://ultrasignup.com/register.aspx?did=128358
CATEGORIES:Ultramarathon
CONTACT:
CLASS:PUBLIC
PRIORITY:5
TRANSP:OPAQUE
END:VEVENT
END:VCALENDAR
