BEGIN:VCALENDAR
PRODID:-//http://statistik.d-u-v.org//PHP ultracalendar//EN
VERSION:2.0
METHOD:PUBLISH
BEGIN:VEVENT
DTSTAMP:20260419T195348
CREATED:20251224T002805
UID:1776628428.0.16540500-126034@statistik.d-u-v.org
SUMMARY:Spring On The Trails Endurance Runs - 6h
DESCRIPTION: Spring On The Trails Endurance Runs - 6h\n
  \n
  ctwendurance[at]gmail.com
DTSTART:20260328T080000
DTEND:00000000T235900
LOCATION:Lagrangeville, NY\, USA
URL:https://ultrasignup.com/register.aspx?did=132159
CATEGORIES:Ultramarathon
CONTACT:
CLASS:PUBLIC
PRIORITY:5
TRANSP:OPAQUE
END:VEVENT
END:VCALENDAR
