BEGIN:VCALENDAR
PRODID:-//http://statistik.d-u-v.org//PHP ultracalendar//EN
VERSION:2.0
METHOD:PUBLISH
BEGIN:VEVENT
DTSTAMP:20260423T093826
CREATED:20251224T000425
UID:1776937106.0.27139500-126019@statistik.d-u-v.org
SUMMARY:TDR Trail Trashed 50K
DESCRIPTION: TDR Trail Trashed 50K\n
  Race Director Heidi Dove\n
  iamenna[at]hotmail.com
DTSTART:20260321T060000
DTEND:00000000T235900
LOCATION:Henderson, NV\, USA
URL:https://ultrasignup.com/register.aspx?did=125578
CATEGORIES:Ultramarathon
CONTACT:Race Director Heidi Dove
CLASS:PUBLIC
PRIORITY:5
TRANSP:OPAQUE
END:VEVENT
END:VCALENDAR
