BEGIN:VCALENDAR
PRODID:-//http://statistik.d-u-v.org//PHP ultracalendar//EN
VERSION:2.0
METHOD:PUBLISH
BEGIN:VEVENT
DTSTAMP:20260419T140104
CREATED:20251223T235730
UID:1776607264.0.82996400-126011@statistik.d-u-v.org
SUMMARY:Redwood Summer Trail Run
DESCRIPTION: Redwood Summer Trail Run\n
  \n
  
DTSTART:20260815T080000
DTEND:00000000T235900
LOCATION:Oakland, CA\, USA
URL:https://runsignup.com/Race/CA/Oakland/RedwoodSummerTrailRun
CATEGORIES:Ultramarathon
CONTACT:
CLASS:PUBLIC
PRIORITY:5
TRANSP:OPAQUE
END:VEVENT
END:VCALENDAR
