BEGIN:VCALENDAR
PRODID:-//http://statistik.d-u-v.org//PHP ultracalendar//EN
VERSION:2.0
METHOD:PUBLISH
BEGIN:VEVENT
DTSTAMP:20260423T035952
CREATED:20251223T233250
UID:1776916792.0.94179700-126000@statistik.d-u-v.org
SUMMARY:Crazy Desert Trail Race 50 km Race
DESCRIPTION: Crazy Desert Trail Race 50 km Race\n
  \n
  
DTSTART:20260321T070000
DTEND:00000000T235900
LOCATION:San Angelo, TX\, USA
URL:https://runsignup.com/crazydesert
CATEGORIES:Ultramarathon
CONTACT:
CLASS:PUBLIC
PRIORITY:5
TRANSP:OPAQUE
END:VEVENT
END:VCALENDAR
