BEGIN:VCALENDAR
PRODID:-//http://statistik.d-u-v.org//PHP ultracalendar//EN
VERSION:2.0
METHOD:PUBLISH
BEGIN:VEVENT
DTSTAMP:20260419T233303
CREATED:20251223T205517
UID:1776641583.0.02637500-125984@statistik.d-u-v.org
SUMMARY:Moab Red Hot 50 Mile
DESCRIPTION: Moab Red Hot 50 Mile\n
  Chris Martinez, Justin Ricks\n
  grassroots.events[at]yahoo.com
DTSTART:20260221T080000
DTEND:00000000T235900
LOCATION:Moab, UT\, USA
URL:https://ultrasignup.com/register.aspx?did=124851
CATEGORIES:Ultramarathon
CONTACT:Chris Martinez, Justin Ricks
CLASS:PUBLIC
PRIORITY:5
TRANSP:OPAQUE
END:VEVENT
END:VCALENDAR
