BEGIN:VCALENDAR
PRODID:-//http://statistik.d-u-v.org//PHP ultracalendar//EN
VERSION:2.0
METHOD:PUBLISH
BEGIN:VEVENT
DTSTAMP:20260426T032435
CREATED:20251226T090948
UID:1777173875.0.71521800-125980@statistik.d-u-v.org
SUMMARY:The Final Countdown - Tribute
DESCRIPTION: The Final Countdown - Tribute\n
  \n
  2lowerunco@gmail.com
DTSTART:20260919T090000
DTEND:00000000T235900
LOCATION:Martinsburg, WV\, USA
URL:https://runsignup.com/Race/WV/Martinsburg/TheFinalCountdownTribute
CATEGORIES:Ultramarathon
CONTACT:
CLASS:PUBLIC
PRIORITY:5
TRANSP:OPAQUE
END:VEVENT
END:VCALENDAR
