BEGIN:VCALENDAR
PRODID:-//http://statistik.d-u-v.org//PHP ultracalendar//EN
VERSION:2.0
METHOD:PUBLISH
BEGIN:VEVENT
DTSTAMP:20260419T180842
CREATED:20251223T200050
UID:1776622122.0.45475400-125958@statistik.d-u-v.org
SUMMARY:Arrowhead 24 Hour Endurance Run
DESCRIPTION: Arrowhead 24 Hour Endurance Run\n
  \n
  lauraran1[at]yahoo.com
DTSTART:20261010T070000
DTEND:20261011T235900
LOCATION:Johnston City, IL\, USA
URL:https://ultrasignup.com/register.aspx?did=131284
CATEGORIES:Ultramarathon
CONTACT:
CLASS:PUBLIC
PRIORITY:5
TRANSP:OPAQUE
END:VEVENT
END:VCALENDAR
