BEGIN:VCALENDAR
PRODID:-//http://statistik.d-u-v.org//PHP ultracalendar//EN
VERSION:2.0
METHOD:PUBLISH
BEGIN:VEVENT
DTSTAMP:20260423T015030
CREATED:20251223T195530
UID:1776909030.0.69289800-125954@statistik.d-u-v.org
SUMMARY:Spike Camp
DESCRIPTION: Spike Camp\n
  \n
  info[at]recoverystrong.com
DTSTART:20260124T000000
DTEND:00000000T235900
LOCATION:Eugene, OR\, USA
URL:https://recoverystrong.com/pages/spike-camp
CATEGORIES:Ultramarathon
CONTACT:
CLASS:PUBLIC
PRIORITY:5
TRANSP:OPAQUE
END:VEVENT
END:VCALENDAR
