BEGIN:VCALENDAR
PRODID:-//http://statistik.d-u-v.org//PHP ultracalendar//EN
VERSION:2.0
METHOD:PUBLISH
BEGIN:VEVENT
DTSTAMP:20260419T192603
CREATED:20251223T194019
UID:1776626763.0.83678400-125941@statistik.d-u-v.org
SUMMARY:AZT Oracle Rumble 50 Mile
DESCRIPTION: AZT Oracle Rumble 50 Mile\n
  Steve Outridge\n
  oraclerd[at]aztrail.org
DTSTART:20260131T073000
DTEND:00000000T235900
LOCATION:Oracle, AZ\, USA
URL:https://ultrasignup.com/register.aspx?did=126760
CATEGORIES:Ultramarathon
CONTACT:Steve Outridge
CLASS:PUBLIC
PRIORITY:5
TRANSP:OPAQUE
END:VEVENT
END:VCALENDAR
