BEGIN:VCALENDAR
PRODID:-//http://statistik.d-u-v.org//PHP ultracalendar//EN
VERSION:2.0
METHOD:PUBLISH
BEGIN:VEVENT
DTSTAMP:20260422T104605
CREATED:20251223T193920
UID:1776854765.0.50320900-125938@statistik.d-u-v.org
SUMMARY:Angela Ivory 24 Hour Memorial Run
DESCRIPTION: Angela Ivory 24 Hour Memorial Run\n
  \n
  genebruckert[at]gmail.com
DTSTART:20260214T083000
DTEND:20260215T083000
LOCATION:Felton, DE\, USA
URL:https://ultrasignup.com/register.aspx?did=128750
CATEGORIES:Ultramarathon
CONTACT:
CLASS:PUBLIC
PRIORITY:5
TRANSP:OPAQUE
END:VEVENT
END:VCALENDAR
