BEGIN:VCALENDAR
PRODID:-//http://statistik.d-u-v.org//PHP ultracalendar//EN
VERSION:2.0
METHOD:PUBLISH
BEGIN:VEVENT
DTSTAMP:20260419T163038
CREATED:20251223T193305
UID:1776616238.0.87901900-125933@statistik.d-u-v.org
SUMMARY:Beast of Burden Summer 50 Miler
DESCRIPTION: Beast of Burden Summer 50 Miler\n
  Race Director: Ken Genewick\n
  kengenewick[at]gmail.com
DTSTART:20260815T000000
DTEND:20260816T235900
LOCATION:Lockport, NY\, USA
URL:https://ultrasignup.com/register.aspx?did=133747
CATEGORIES:Ultramarathon
CONTACT:Race Director: Ken Genewick
CLASS:PUBLIC
PRIORITY:5
TRANSP:OPAQUE
END:VEVENT
END:VCALENDAR
