BEGIN:VCALENDAR
PRODID:-//http://statistik.d-u-v.org//PHP ultracalendar//EN
VERSION:2.0
METHOD:PUBLISH
BEGIN:VEVENT
DTSTAMP:20260423T145105
CREATED:20251223T192126
UID:1776955865.0.36954100-125920@statistik.d-u-v.org
SUMMARY:Pemberton Trail 50 km
DESCRIPTION: Pemberton Trail 50 km\n
  Race Director Brian Wieck\n
  bquick50k[at]hotmail.com
DTSTART:20260124T070000
DTEND:00000000T235900
LOCATION:Fountain Hills, AZ\, USA
URL:https://ultrasignup.com/register.aspx?did=125767
CATEGORIES:Ultramarathon
CONTACT:Race Director Brian Wieck
CLASS:PUBLIC
PRIORITY:5
TRANSP:OPAQUE
END:VEVENT
END:VCALENDAR
