BEGIN:VCALENDAR
PRODID:-//http://statistik.d-u-v.org//PHP ultracalendar//EN
VERSION:2.0
METHOD:PUBLISH
BEGIN:VEVENT
DTSTAMP:20260420T133319
CREATED:20251223T185422
UID:1776691999.0.88346200-125895@statistik.d-u-v.org
SUMMARY:Salem Lakeshore Frosty Fifty
DESCRIPTION: Salem Lakeshore Frosty Fifty\n
  Warren Allen\n
  frosty50[at]twincitytc.org
DTSTART:20260103T080000
DTEND:00000000T235900
LOCATION:Winston-Salem, NC\, USA
URL:https://runsignup.com/Race/NC/WinstonSalem/SalemLakeshoreFrostyFifty50k25kand50kRelay
CATEGORIES:Ultramarathon
CONTACT:Warren Allen
CLASS:PUBLIC
PRIORITY:5
TRANSP:OPAQUE
END:VEVENT
END:VCALENDAR
