BEGIN:VCALENDAR
PRODID:-//http://statistik.d-u-v.org//PHP ultracalendar//EN
VERSION:2.0
METHOD:PUBLISH
BEGIN:VEVENT
DTSTAMP:20260419T161735
CREATED:20251223T172443
UID:1776615455.0.73276900-125851@statistik.d-u-v.org
SUMMARY:Haliburton Forest 50 km Race
DESCRIPTION: Haliburton Forest 50 km Race\n
  Helen Malmberg\n
  hfultra[at]haliburtonforest.com
DTSTART:20260911T000000
DTEND:00000000T235900
LOCATION:West Guilford, ON\, CAN
URL:https://www.haliburtonforest100.org/
CATEGORIES:Ultramarathon
CONTACT:Helen Malmberg
CLASS:PUBLIC
PRIORITY:5
TRANSP:OPAQUE
END:VEVENT
END:VCALENDAR
