BEGIN:VCALENDAR
PRODID:-//http://statistik.d-u-v.org//PHP ultracalendar//EN
VERSION:2.0
METHOD:PUBLISH
BEGIN:VEVENT
DTSTAMP:20260420T035216
CREATED:20251223T152327
UID:1776657136.0.20080700-125828@statistik.d-u-v.org
SUMMARY:Running Up For Air - Grandeur Peak
DESCRIPTION: Running Up For Air - Grandeur Peak\n
  Race Director Jared Campbell\n
  jared.e.campbell[at]gmail.com
DTSTART:20260207T060000
DTEND:00000000T235900
LOCATION:Salt Lake City, UT\, USA
URL:https://runsignup.com/Race/UT/SaltLakeCity/RunningUpforAirGrandeur
CATEGORIES:Ultramarathon
CONTACT:Race Director Jared Campbell
CLASS:PUBLIC
PRIORITY:5
TRANSP:OPAQUE
END:VEVENT
END:VCALENDAR
