BEGIN:VCALENDAR
PRODID:-//http://statistik.d-u-v.org//PHP ultracalendar//EN
VERSION:2.0
METHOD:PUBLISH
BEGIN:VEVENT
DTSTAMP:20260423T033709
CREATED:20251223T143226
UID:1776915429.0.55269300-125807@statistik.d-u-v.org
SUMMARY:Roosters Backyard Ultra
DESCRIPTION: Roosters Backyard Ultra\n
  Jose Sosa Jr.\n
  
DTSTART:20260307T070000
DTEND:20260308T235900
LOCATION:San Diego, CA\, USA
URL:https://ultrasignup.com/register.aspx?did=132181
CATEGORIES:Ultramarathon
CONTACT:Jose Sosa Jr.
CLASS:PUBLIC
PRIORITY:5
TRANSP:OPAQUE
END:VEVENT
END:VCALENDAR
