BEGIN:VCALENDAR
PRODID:-//http://statistik.d-u-v.org//PHP ultracalendar//EN
VERSION:2.0
METHOD:PUBLISH
BEGIN:VEVENT
DTSTAMP:20260419T182228
CREATED:20251223T122302
UID:1776622948.0.07271000-125680@statistik.d-u-v.org
SUMMARY:The Biggest Little Ultra - 24h Sat
DESCRIPTION: The Biggest Little Ultra - 24h Sat\n
  \n
  toddleigh1@gmail.com
DTSTART:20261010T090000
DTEND:20261010T090000
LOCATION:Sparks, NV\, USA
URL:https://ultrasignup.com/register.aspx?did=131986
CATEGORIES:Ultramarathon
CONTACT:
CLASS:PUBLIC
PRIORITY:5
TRANSP:OPAQUE
END:VEVENT
END:VCALENDAR
