BEGIN:VCALENDAR
PRODID:-//http://statistik.d-u-v.org//PHP ultracalendar//EN
VERSION:2.0
METHOD:PUBLISH
BEGIN:VEVENT
DTSTAMP:20260419T233313
CREATED:20251223T122044
UID:1776641593.0.40958100-125674@statistik.d-u-v.org
SUMMARY:The Drift 100 Mile Race
DESCRIPTION: The Drift 100 Mile Race\n
  \n
  
DTSTART:20260313T090000
DTEND:20260315T170000
LOCATION:Pinedale, WY\, USA
URL:https://ultrasignup.com/register.aspx?did=131889
CATEGORIES:Ultramarathon
CONTACT:
CLASS:PUBLIC
PRIORITY:5
TRANSP:OPAQUE
END:VEVENT
END:VCALENDAR
