BEGIN:VCALENDAR
PRODID:-//http://statistik.d-u-v.org//PHP ultracalendar//EN
VERSION:2.0
METHOD:PUBLISH
BEGIN:VEVENT
DTSTAMP:20260419T220847
CREATED:20251223T120822
UID:1776636527.0.43628300-125650@statistik.d-u-v.org
SUMMARY:The Bullshit Backyard Ultra
DESCRIPTION: The Bullshit Backyard Ultra\n
  \n
  yelpingsalmon[at]gmail.com
DTSTART:20260321T070000
DTEND:00000000T235900
LOCATION:Lenoxville, PA\, USA
URL:https://ultrasignup.com/register.aspx?did=130285
CATEGORIES:Ultramarathon
CONTACT:
CLASS:PUBLIC
PRIORITY:5
TRANSP:OPAQUE
END:VEVENT
END:VCALENDAR
