BEGIN:VCALENDAR
PRODID:-//http://statistik.d-u-v.org//PHP ultracalendar//EN
VERSION:2.0
METHOD:PUBLISH
BEGIN:VEVENT
DTSTAMP:20260421T202335
CREATED:20251223T101926
UID:1776803015.0.85127200-125603@statistik.d-u-v.org
SUMMARY:Cottontail 6 Hour Race
DESCRIPTION: Cottontail 6 Hour Race\n
  Sam Thompson, Matt Stebbins\n
  sam[at]seesamrun.com; stebbins.matt[at]gmail.com
DTSTART:20260418T090000
DTEND:00000000T235900
LOCATION:Seattle, WA\, USA
URL:https://ultrasignup.com/register.aspx?did=133192
CATEGORIES:Ultramarathon
CONTACT:Sam Thompson, Matt Stebbins
CLASS:PUBLIC
PRIORITY:5
TRANSP:OPAQUE
END:VEVENT
END:VCALENDAR
