BEGIN:VCALENDAR
PRODID:-//http://statistik.d-u-v.org//PHP ultracalendar//EN
VERSION:2.0
METHOD:PUBLISH
BEGIN:VEVENT
DTSTAMP:20260419T140054
CREATED:20251223T095522
UID:1776607254.0.07289800-125581@statistik.d-u-v.org
SUMMARY:Pacifico Ultra
DESCRIPTION: Pacifico Ultra\n
  \n
  info@socaltrail.events
DTSTART:20260530T073000
DTEND:00000000T235900
LOCATION:Palmdale, CA\, USA
URL:https://ultrasignup.com/register.aspx?did=129412
CATEGORIES:Ultramarathon
CONTACT:
CLASS:PUBLIC
PRIORITY:5
TRANSP:OPAQUE
END:VEVENT
END:VCALENDAR
