BEGIN:VCALENDAR
PRODID:-//http://statistik.d-u-v.org//PHP ultracalendar//EN
VERSION:2.0
METHOD:PUBLISH
BEGIN:VEVENT
DTSTAMP:20260420T005804
CREATED:20251223T040002
UID:1776646684.0.10667200-125554@statistik.d-u-v.org
SUMMARY:Silver Moon Race 12 Hour Race
DESCRIPTION: Silver Moon Race 12 Hour Race\n
  \n
  run[at]silvermoonrace.com
DTSTART:20260404T180000
DTEND:20260405T235900
LOCATION:Reedley, CA\, USA
URL:https://silvermoonrace.com/
CATEGORIES:Ultramarathon
CONTACT:
CLASS:PUBLIC
PRIORITY:5
TRANSP:OPAQUE
END:VEVENT
END:VCALENDAR
