BEGIN:VCALENDAR
PRODID:-//http://statistik.d-u-v.org//PHP ultracalendar//EN
VERSION:2.0
METHOD:PUBLISH
BEGIN:VEVENT
DTSTAMP:20260419T121632
CREATED:20251223T025203
UID:1776600992.0.49335100-125517@statistik.d-u-v.org
SUMMARY:Keys100 Ultra-Marathons 50km
DESCRIPTION: Keys100 Ultra-Marathons 50km\n
  Bob Becker\n
  bob[at]ultrasportsllc.com
DTSTART:20260516T120000
DTEND:20260517T000100
LOCATION:Big Pine Key, FL\, USA
URL:https://runsignup.com/Race/FL/KeyWest/Keys100
CATEGORIES:Ultramarathon
CONTACT:Bob Becker
CLASS:PUBLIC
PRIORITY:5
TRANSP:OPAQUE
END:VEVENT
END:VCALENDAR
