BEGIN:VCALENDAR
PRODID:-//http://statistik.d-u-v.org//PHP ultracalendar//EN
VERSION:2.0
METHOD:PUBLISH
BEGIN:VEVENT
DTSTAMP:20260419T140801
CREATED:20251223T024342
UID:1776607681.0.20409100-125509@statistik.d-u-v.org
SUMMARY:O'Neill Park Trail Races
DESCRIPTION: O'Neill Park Trail Races\n
  \n
  
DTSTART:20260516T063000
DTEND:00000000T235900
LOCATION:Trabuco Canyon, CA\, USA
URL:https://ultrasignup.com/register.aspx?did=127709
CATEGORIES:Ultramarathon
CONTACT:
CLASS:PUBLIC
PRIORITY:5
TRANSP:OPAQUE
END:VEVENT
END:VCALENDAR
