BEGIN:VCALENDAR
PRODID:-//http://statistik.d-u-v.org//PHP ultracalendar//EN
VERSION:2.0
METHOD:PUBLISH
BEGIN:VEVENT
DTSTAMP:20260423T093832
CREATED:20251223T020603
UID:1776937112.0.41016300-125481@statistik.d-u-v.org
SUMMARY:The Old Six Day
DESCRIPTION: The Old Six Day\n
  Pete and Jen Greenfield\n
  pete@endlessendurance.com
DTSTART:20260409T100000
DTEND:20260412T100000
LOCATION:Pennsauken, NJ\, USA
URL:https://runsignup.com/Race/NJ/Pennsauken/TheOldDay
CATEGORIES:Ultramarathon
CONTACT:Pete and Jen Greenfield
CLASS:PUBLIC
PRIORITY:5
TRANSP:OPAQUE
END:VEVENT
END:VCALENDAR
