BEGIN:VCALENDAR
PRODID:-//http://statistik.d-u-v.org//PHP ultracalendar//EN
VERSION:2.0
METHOD:PUBLISH
BEGIN:VEVENT
DTSTAMP:20260419T180839
CREATED:20251223T015424
UID:1776622119.0.71449700-125475@statistik.d-u-v.org
SUMMARY:Badgerland F/X 6 Hour Run (night)
DESCRIPTION: Badgerland F/X 6 Hour Run (night)\n
  Robert Wehner\n
  rwehner[at]hotmail.com
DTSTART:20260905T090000
DTEND:00000000T235900
LOCATION:Delafield, WI\, USA
URL:https://bls24126hourruns.blogspot.com/
CATEGORIES:Ultramarathon
CONTACT:Robert Wehner
CLASS:PUBLIC
PRIORITY:5
TRANSP:OPAQUE
END:VEVENT
END:VCALENDAR
