BEGIN:VCALENDAR
PRODID:-//http://statistik.d-u-v.org//PHP ultracalendar//EN
VERSION:2.0
METHOD:PUBLISH
BEGIN:VEVENT
DTSTAMP:20260419T140102
CREATED:20251222T235914
UID:1776607262.0.28212500-125373@statistik.d-u-v.org
SUMMARY:Kill Bill's Oyster Dome Challenge
DESCRIPTION: Kill Bill's Oyster Dome Challenge\n
  Race Coordinator Terry Sentinella\n
  ultradweeb[at]gmail.com
DTSTART:20260711T070000
DTEND:00000000T235900
LOCATION:Alger, WA\, USA
URL:https://ultrasignup.com/register.aspx?did=133161
CATEGORIES:Ultramarathon
CONTACT:Race Coordinator Terry Sentinella
CLASS:PUBLIC
PRIORITY:5
TRANSP:OPAQUE
END:VEVENT
END:VCALENDAR
