BEGIN:VCALENDAR
PRODID:-//http://statistik.d-u-v.org//PHP ultracalendar//EN
VERSION:2.0
METHOD:PUBLISH
BEGIN:VEVENT
DTSTAMP:20260419T161600
CREATED:20251222T233230
UID:1776615360.0.13162300-125333@statistik.d-u-v.org
SUMMARY:Vermont 100 km Endurance Race
DESCRIPTION: Vermont 100 km Endurance Race\n
  Julia Hutchinson O'Brien\n
  vt100[at]vermontadaptive.org
DTSTART:20260718T090000
DTEND:00000000T235900
LOCATION:West Windsor, VT\, USA
URL:https://www.vermont100.com/
CATEGORIES:Ultramarathon
CONTACT:Julia Hutchinson O'Brien
CLASS:PUBLIC
PRIORITY:5
TRANSP:OPAQUE
END:VEVENT
END:VCALENDAR
