BEGIN:VCALENDAR
PRODID:-//http://statistik.d-u-v.org//PHP ultracalendar//EN
VERSION:2.0
METHOD:PUBLISH
BEGIN:VEVENT
DTSTAMP:20260419T135756
CREATED:20251222T222105
UID:1776607076.0.58891300-125285@statistik.d-u-v.org
SUMMARY:Bighorn Mountain Wild & Scenic 50km Trail Run
DESCRIPTION: Bighorn Mountain Wild & Scenic 50km Trail Run\n
  Bighorn Runs\n
  michelle[at]sportstopwy.com
DTSTART:20260619T080000
DTEND:00000000T235900
LOCATION:Dayton, WY\, USA
URL:https://www.bighorntrailrun.com/
CATEGORIES:Ultramarathon
CONTACT:Bighorn Runs
CLASS:PUBLIC
PRIORITY:5
TRANSP:OPAQUE
END:VEVENT
END:VCALENDAR
